BEGIN:VCALENDAR
VERSION:2.0
PRODID:-//ChamberMaster//Event Calendar 2.0//EN
METHOD:PUBLISH
X-PUBLISHED-TTL:P3D
REFRESH-INTERVAL:P3D
CALSCALE:GREGORIAN
BEGIN:VEVENT
DTSTART:20141003T123000Z
DTEND:20141003T140000Z
X-MICROSOFT-CDO-ALLDAYEVENT:FALSE
SUMMARY:First Friday Coffee
DESCRIPTION:Join us at a local business to connect with other businesses in North Kansas City\, find out more information about this month's host\, and have a cup of coffee with friends before work.
X-ALT-DESC;FMTTYPE=text/html:Join us at a local business to connect with other businesses in North Kansas City\, find out more information about this month&#39\;s host\, and have a cup of coffee with friends before work.
LOCATION:ProPrint Digital 1916 Clay Street
UID:e.211.3999
SEQUENCE:3
DTSTAMP:20260424T201940Z
URL:https://members.nkcbusinesscouncil.com/events/details/first-friday-coffee-10-03-2014-3999
END:VEVENT

END:VCALENDAR
