BEGIN:VCALENDAR
VERSION:2.0
PRODID:-//ChamberMaster//Event Calendar 2.0//EN
METHOD:PUBLISH
X-PUBLISHED-TTL:P3D
REFRESH-INTERVAL:P3D
CALSCALE:GREGORIAN
BEGIN:VEVENT
DTSTART:20151002T123000Z
DTEND:20151002T140000Z
X-MICROSOFT-CDO-ALLDAYEVENT:FALSE
SUMMARY:First Friday Coffee
DESCRIPTION:Join us for coffee and networking at one of our local business hosts.
X-ALT-DESC;FMTTYPE=text/html:Join us for coffee and networking at one of our local business hosts.
LOCATION:Morrill & Janes Bank 2301 Burlington Suite 110
UID:e.211.4312
SEQUENCE:3
DTSTAMP:20260424T045718Z
URL:https://members.nkcbusinesscouncil.com/events/details/first-friday-coffee-10-02-2015-4312
END:VEVENT

END:VCALENDAR
