BEGIN:VCALENDAR
VERSION:2.0
PRODID:-//ChamberMaster//Event Calendar 2.0//EN
METHOD:PUBLISH
X-PUBLISHED-TTL:P3D
REFRESH-INTERVAL:P3D
CALSCALE:GREGORIAN
BEGIN:VEVENT
DTSTART:20150904T123000Z
DTEND:20150904T140000Z
X-MICROSOFT-CDO-ALLDAYEVENT:FALSE
SUMMARY:First Friday Coffee
DESCRIPTION:Join us for coffee and networking at one of our local business hosts.
X-ALT-DESC;FMTTYPE=text/html:Join us for coffee and networking at one of our local business hosts.
LOCATION:Thomas Hershewe\, CPA
UID:e.211.4311
SEQUENCE:3
DTSTAMP:20260424T061257Z
URL:https://members.nkcbusinesscouncil.com/events/details/first-friday-coffee-09-04-2015-4311
END:VEVENT

END:VCALENDAR
