BEGIN:VCALENDAR
VERSION:2.0
PRODID:-//ChamberMaster//Event Calendar 2.0//EN
METHOD:PUBLISH
X-PUBLISHED-TTL:P3D
REFRESH-INTERVAL:P3D
CALSCALE:GREGORIAN
BEGIN:VEVENT
DTSTART:20130802T121500Z
DTEND:20130802T140000Z
X-MICROSOFT-CDO-ALLDAYEVENT:FALSE
SUMMARY:First Friday Coffee
DESCRIPTION:Join us at Country Club Bank
X-ALT-DESC;FMTTYPE=text/html:Join us at Country Club Bank
LOCATION:401 Armour Rd
UID:e.211.238
SEQUENCE:3
DTSTAMP:20260425T150909Z
URL:https://members.nkcbusinesscouncil.com/events/details/first-friday-coffee-08-02-2013-238
END:VEVENT

END:VCALENDAR
