BEGIN:VCALENDAR
VERSION:2.0
PRODID:-//ChamberMaster//Event Calendar 2.0//EN
METHOD:PUBLISH
X-PUBLISHED-TTL:P3D
REFRESH-INTERVAL:P3D
CALSCALE:GREGORIAN
BEGIN:VEVENT
DTSTART:20130503T123000Z
DTEND:20130503T140000Z
X-MICROSOFT-CDO-ALLDAYEVENT:FALSE
SUMMARY:First Friday Coffee
DESCRIPTION:We will be celebrating the grand re-opening of the Jack Miller Kia/Isuzu.\n\nJoin us to congratulate them on their years of service.
X-ALT-DESC;FMTTYPE=text/html:<strong><span style="font-size: 14px\;"><span style="font-family: tahoma\;">We will be celebrating the grand re-opening of the Jack Miller Kia/Isuzu.<br />\nJoin us to congratulate them on their years of service.</span></span></strong><br />\n<br />\n
LOCATION:Jack Miller Kia/Isuzu 2900 Burlington
UID:e.211.235
SEQUENCE:3
DTSTAMP:20260425T194353Z
URL:https://members.nkcbusinesscouncil.com/events/details/first-friday-coffee-05-03-2013-235
END:VEVENT

END:VCALENDAR
