BEGIN:VCALENDAR
VERSION:2.0
PRODID:-//ChamberMaster//Event Calendar 2.0//EN
METHOD:PUBLISH
X-PUBLISHED-TTL:P3D
REFRESH-INTERVAL:P3D
CALSCALE:GREGORIAN
BEGIN:VEVENT
DTSTART:20140502T123000Z
DTEND:20140502T140000Z
X-MICROSOFT-CDO-ALLDAYEVENT:FALSE
SUMMARY:First Friday Coffee
DESCRIPTION:Join us at Cates Auction & Realty to connect with other businesses in North Kansas City\, find out more information about this month's host\, and have a cup of coffee with friends before work.
X-ALT-DESC;FMTTYPE=text/html:Join us at Cates Auction &amp\; Realty to connect with other businesses in North Kansas City\, find out more information about this month&#39\;s host\, and have a cup of coffee with friends before work.
LOCATION:Cates Auction & Realty 1440 Iron
UID:e.211.3994
SEQUENCE:3
DTSTAMP:20260425T024909Z
URL:https://members.nkcbusinesscouncil.com/events/details/first-friday-coffee-05-02-2014-3994
END:VEVENT

END:VCALENDAR
