BEGIN:VCALENDAR
VERSION:2.0
PRODID:-//ChamberMaster//Event Calendar 2.0//EN
METHOD:PUBLISH
X-PUBLISHED-TTL:P3D
REFRESH-INTERVAL:P3D
CALSCALE:GREGORIAN
BEGIN:VEVENT
DTSTART:20150501T123000Z
DTEND:20150501T140000Z
X-MICROSOFT-CDO-ALLDAYEVENT:FALSE
SUMMARY:First Friday Coffee
DESCRIPTION:Join us for coffee and networking at one of our local business hosts.
X-ALT-DESC;FMTTYPE=text/html:Join us for coffee and networking at one of our local business hosts.
LOCATION:Kate Kern Agency / American Family Insurance 500 Armour Rd North Kansas City\, MO 64116
UID:e.211.4307
SEQUENCE:3
DTSTAMP:20260424T110239Z
URL:https://members.nkcbusinesscouncil.com/events/details/first-friday-coffee-05-01-2015-4307
END:VEVENT

END:VCALENDAR
