BEGIN:VCALENDAR
VERSION:2.0
PRODID:-//ChamberMaster//Event Calendar 2.0//EN
METHOD:PUBLISH
X-PUBLISHED-TTL:P3D
REFRESH-INTERVAL:P3D
CALSCALE:GREGORIAN
BEGIN:VEVENT
DTSTART:20150403T123000Z
DTEND:20150403T140000Z
X-MICROSOFT-CDO-ALLDAYEVENT:FALSE
SUMMARY:First Friday Coffee
DESCRIPTION:Join us for coffee and networking at one of our local business hosts.
X-ALT-DESC;FMTTYPE=text/html:Join us for coffee and networking at one of our local business hosts.
LOCATION:Chiropractic Kinesiology Clinic 420 Armour Rd North Kansas City\, MO 64116
UID:e.211.4306
SEQUENCE:3
DTSTAMP:20260424T120742Z
URL:https://members.nkcbusinesscouncil.com/events/details/first-friday-coffee-04-03-2015-4306
END:VEVENT

END:VCALENDAR
