BEGIN:VCALENDAR
VERSION:2.0
PRODID:-//ChamberMaster//Event Calendar 2.0//EN
METHOD:PUBLISH
X-PUBLISHED-TTL:P3D
REFRESH-INTERVAL:P3D
CALSCALE:GREGORIAN
BEGIN:VEVENT
DTSTART:20160205T133000Z
DTEND:20160205T150000Z
X-MICROSOFT-CDO-ALLDAYEVENT:FALSE
SUMMARY:First Friday Coffee
DESCRIPTION:Join us for coffee and networking at one of our local business hosts.
X-ALT-DESC;FMTTYPE=text/html:Join us for coffee and networking at one of our local business hosts.
LOCATION:Worksource\, Inc. 310 Armour\, Ste 203
UID:e.211.4712
SEQUENCE:3
DTSTAMP:20260424T000540Z
URL:https://members.nkcbusinesscouncil.com/events/details/first-friday-coffee-02-05-2016-4712
END:VEVENT

END:VCALENDAR
