BEGIN:VCALENDAR
VERSION:2.0
PRODID:-//ChamberMaster//Event Calendar 2.0//EN
METHOD:PUBLISH
X-PUBLISHED-TTL:P3D
REFRESH-INTERVAL:P3D
CALSCALE:GREGORIAN
BEGIN:VEVENT
DTSTART:20160930T170000Z
DTEND:20161001T000000Z
X-MICROSOFT-CDO-ALLDAYEVENT:FALSE
SUMMARY:Firehouse Chili Supper
DESCRIPTION:Join us at Station #1\, 1815 Howell for chili prepared and served by the city's hottest. We will be serving from lunch time until 7:00 pm before NKC High School Homecoming.\n\nProceeds will got to our community service projects and the NKC Historical Society.
X-ALT-DESC;FMTTYPE=text/html:Join us at Station #1\, 1815 Howell for chili prepared and served by the city&#39\;s hottest. We will be serving from lunch time until 7:00 pm before NKC High School Homecoming.<br />\nProceeds will got to our community service projects and the NKC Historical Society.
LOCATION:1815 Howell North Kansas City\, MO 64116
UID:e.211.5148
SEQUENCE:3
DTSTAMP:20260422T234756Z
URL:https://members.nkcbusinesscouncil.com/events/details/firehouse-chili-supper-5148
END:VEVENT

END:VCALENDAR
