BEGIN:VCALENDAR
VERSION:2.0
PRODID:-//ChamberMaster//Event Calendar 2.0//EN
METHOD:PUBLISH
X-PUBLISHED-TTL:P3D
REFRESH-INTERVAL:P3D
CALSCALE:GREGORIAN
BEGIN:VEVENT
DTSTART:20130406T140000Z
DTEND:20130406T150000Z
X-MICROSOFT-CDO-ALLDAYEVENT:FALSE
SUMMARY:Farmer's Market Vendors Meeting
DESCRIPTION:Please join us for an informational meeting to discuss the current and potential changes to our market for the 2013 season.
X-ALT-DESC;FMTTYPE=text/html:<div style="color: gray\;">\n	<div _mce_style="text-align: center\; color: #000000\; font-size: 22pt\;" align="center" style="text-align: center\; color: rgb(0\, 0\, 0)\; font-size: 22pt\;">\n		Please join us for an informational meeting to discuss the current and potential changes to our market for the 2013 season.</div>\n</div>\n
LOCATION:North Kansas City Cafe 414 Armour Road
UID:e.211.3515
SEQUENCE:3
DTSTAMP:20260425T212058Z
URL:https://members.nkcbusinesscouncil.com/events/details/farmer-s-market-vendors-meeting-04-06-2013-3515
END:VEVENT

END:VCALENDAR
