BEGIN:VCALENDAR
VERSION:2.0
PRODID:-//ChamberMaster//Event Calendar 2.0//EN
METHOD:PUBLISH
X-PUBLISHED-TTL:P3D
REFRESH-INTERVAL:P3D
CALSCALE:GREGORIAN
BEGIN:VEVENT
DTSTART:20131011T120000Z
DTEND:20131011T183000Z
X-MICROSOFT-CDO-ALLDAYEVENT:FALSE
SUMMARY:Farmer's Market
DESCRIPTION:
X-ALT-DESC;FMTTYPE=text/html:
LOCATION:At Caboose Park on the corner of Howell & Armour Road.
UID:e.211.3319
SEQUENCE:3
DTSTAMP:20260425T122752Z
URL:https://members.nkcbusinesscouncil.com/events/details/farmer-s-market-10-11-2013-3319
END:VEVENT

END:VCALENDAR
