BEGIN:VCALENDAR
VERSION:2.0
PRODID:-//ChamberMaster//Event Calendar 2.0//EN
METHOD:PUBLISH
X-PUBLISHED-TTL:P3D
REFRESH-INTERVAL:P3D
CALSCALE:GREGORIAN
BEGIN:VEVENT
DTSTART:20141031T123000Z
DTEND:20141031T180000Z
X-MICROSOFT-CDO-ALLDAYEVENT:FALSE
SUMMARY:Farmer' Market
DESCRIPTION:This is the final day of the 2014 Farmer's Market. Be sure to start your Halloween off right with a treat from our vendors.
X-ALT-DESC;FMTTYPE=text/html:This is the final day of the 2014 Farmer&#39\;s Market. Be sure to start your Halloween off right with a treat from our vendors.
LOCATION:Caboose Park at the corner of Armour & Howell
UID:e.211.4166
SEQUENCE:3
DTSTAMP:20260424T213113Z
URL:https://members.nkcbusinesscouncil.com/events/details/farmer-market-10-31-2014-4166
END:VEVENT

END:VCALENDAR
