BEGIN:VCALENDAR
VERSION:2.0
PRODID:-//ChamberMaster//Event Calendar 2.0//EN
METHOD:PUBLISH
X-PUBLISHED-TTL:P3D
REFRESH-INTERVAL:P3D
CALSCALE:GREGORIAN
BEGIN:VEVENT
DTSTART:20141017T123000Z
DTEND:20141017T180000Z
X-MICROSOFT-CDO-ALLDAYEVENT:FALSE
SUMMARY:Farmer' Market
DESCRIPTION:
X-ALT-DESC;FMTTYPE=text/html:
LOCATION:
UID:e.211.4164
SEQUENCE:3
DTSTAMP:20260424T213113Z
URL:https://members.nkcbusinesscouncil.com/events/details/farmer-market-10-17-2014-4164
END:VEVENT

END:VCALENDAR
