BEGIN:VCALENDAR
VERSION:2.0
PRODID:-//ChamberMaster//Event Calendar 2.0//EN
METHOD:PUBLISH
X-PUBLISHED-TTL:P3D
REFRESH-INTERVAL:P3D
CALSCALE:GREGORIAN
BEGIN:VEVENT
DTSTART:20150710T123000Z
DTEND:20150710T180000Z
X-MICROSOFT-CDO-ALLDAYEVENT:FALSE
SUMMARY:Farmer' Market
DESCRIPTION:Stop by the corner of Armour & Howell for fresh produce and other goods at our community Farmer's Market.\n\nSNAP/EBT welcome!
X-ALT-DESC;FMTTYPE=text/html:Stop by the corner of Armour &amp\; Howell for fresh produce and other goods at our community Farmer&#39\;s Market.<br />\nSNAP/EBT welcome!
LOCATION:Caboose Park at the corner of Armour & Howell
UID:e.211.4388
SEQUENCE:3
DTSTAMP:20260424T083400Z
URL:https://members.nkcbusinesscouncil.com/events/details/farmer-market-07-10-2015-4388
END:VEVENT

END:VCALENDAR
