BEGIN:VCALENDAR
VERSION:2.0
PRODID:-//ChamberMaster//Event Calendar 2.0//EN
METHOD:PUBLISH
X-PUBLISHED-TTL:P3D
REFRESH-INTERVAL:P3D
CALSCALE:GREGORIAN
BEGIN:VEVENT
DTSTART:20160605T040000Z
DTEND:20160604T173000Z
X-MICROSOFT-CDO-ALLDAYEVENT:FALSE
SUMMARY:Family Paint
DESCRIPTION:Join Dare to Dabble at our interactive art space for Family Day Painting\, ages 7 & up. Learn how to paint with acrylics on an 11 x 14 canvas for $22 per person. includes all supplies with step by step instruction for the painting. Fun begins at 11:00 on Saturdays in our spacious painting studio at 1329 Swift Avenue\, North Kansas City\, Mo. Reserve your spot at www.daretodabble.com - all events can be found on our calendar. Seating is limited.
X-ALT-DESC;FMTTYPE=text/html:Join Dare to Dabble at our interactive art space for Family Day Painting\, ages 7 &amp\; up. Learn how to paint with acrylics on an 11 x 14 canvas for $22 per person. includes all supplies with step by step instruction for the painting. Fun begins at 11:00 on Saturdays in our spacious painting studio at 1329 Swift Avenue\, North Kansas City\, Mo. Reserve your spot at www.daretodabble.com - all events can be found on our calendar. Seating is limited.
LOCATION:Dare to Dabble 1329 Swift\, NKC
UID:e.211.4988
SEQUENCE:3
DTSTAMP:20260423T111518Z
URL:https://members.nkcbusinesscouncil.com/events/details/family-paint-06-04-2016-4988
END:VEVENT

END:VCALENDAR
