BEGIN:VCALENDAR
VERSION:2.0
PRODID:-//ChamberMaster//Event Calendar 2.0//EN
METHOD:PUBLISH
X-PUBLISHED-TTL:P3D
REFRESH-INTERVAL:P3D
CALSCALE:GREGORIAN
BEGIN:VEVENT
DTSTART:20160311T173000Z
DTEND:20160311T190000Z
X-MICROSOFT-CDO-ALLDAYEVENT:FALSE
SUMMARY:EXERCISE AND AGING: MEDICINE FOR EVERYONE
DESCRIPTION:Regular exercise is healthy for our hearts\, but it can also help us grow older gracefully. Join Samantha Fawcett\, MD as she talks about how exercise helps us age better and improves overall quality of life.
X-ALT-DESC;FMTTYPE=text/html:<span style="font-size: 11pt\;"><span style="font-family: calibri\,sans-serif\;">Regular exercise is healthy for our hearts\, but it can also help us grow older gracefully. Join Samantha Fawcett\, MD as she talks about how exercise helps us age better and improves overall quality of life.&nbsp\;&nbsp\;</span></span>
LOCATION:North Kansas City YMCA\; 1999 Iron Street
UID:e.211.4926
SEQUENCE:3
DTSTAMP:20260423T212143Z
URL:https://members.nkcbusinesscouncil.com/events/details/exercise-and-aging-medicine-for-everyone-03-11-2016-4926
END:VEVENT

END:VCALENDAR
