BEGIN:VCALENDAR
VERSION:2.0
PRODID:-//ChamberMaster//Event Calendar 2.0//EN
METHOD:PUBLISH
X-PUBLISHED-TTL:P3D
REFRESH-INTERVAL:P3D
CALSCALE:GREGORIAN
BEGIN:VEVENT
DTSTART:20150310T170000Z
DTEND:20150310T180000Z
X-MICROSOFT-CDO-ALLDAYEVENT:FALSE
SUMMARY:Estate & Business Succession Planning
DESCRIPTION:Please join us for COMPLIMENTARY event for small and family-owned business owners. An overview on how to plan for the future of your business and family will be presented by estate planning attorney\, Robert K. Kirkland.
X-ALT-DESC;FMTTYPE=text/html:Please join us for COMPLIMENTARY event for small and family-owned business owners. An overview on how to plan for the future of your business and family will be presented by estate planning attorney\, Robert K. Kirkland.
LOCATION:Frazier DeCamp Offices 2103 Swift\, Suite 201
UID:e.211.4410
SEQUENCE:3
DTSTAMP:20260424T133423Z
URL:https://members.nkcbusinesscouncil.com/events/details/estate-business-succession-planning-03-10-2015-4410
END:VEVENT

END:VCALENDAR
