BEGIN:VCALENDAR
VERSION:2.0
PRODID:-//ChamberMaster//Event Calendar 2.0//EN
METHOD:PUBLISH
X-PUBLISHED-TTL:P3D
REFRESH-INTERVAL:P3D
CALSCALE:GREGORIAN
BEGIN:VEVENT
DTSTART:20151121T010000Z
DTEND:20151121T030000Z
X-MICROSOFT-CDO-ALLDAYEVENT:FALSE
SUMMARY:Entrepreneur StoryTime: The Business of Microbrews
DESCRIPTION:PRESENTER: Pete Dulin and Friends\n\nEvery business has a story\, and we are giving them a place to tell it. In this innovative new series\, MCPL invites the KC area's best known entrepreneurs to tell us the story of how they got their venture off the ground. Join us around the Woodneath fireplace for the real story. As part of Global Entrepreneurship Week\, Mid-Continent Public library will host a special Entrepreneur Storytime featuring a panel of local microbrewers along with celebrity moderator Pete Dulin\, author of KC Ale Trail. \n\n7 p.m.\n\nEvent will feature Pete Dulin leading a panel of microbrewers talking about the Business of Microbrews\n\n \n\n	Steve Holle\, founder of KC Bier Company\n	Aaron Ogilvie of Double Shift Brewing\n	Matt Moore from Martin City Brewing and\n	Gene DeClue from Rock & Run Brewery
X-ALT-DESC;FMTTYPE=text/html:<span style="font-size: 10.5pt\;"><span style="font-family: helvetica\,sans-serif\;"><span style="color: rgb(34\, 34\, 34)\;">PRESENTER: Pete Dulin and Friends<br />\nEvery business has a story\, and we are giving them a place to tell it. In this innovative new series\, MCPL invites the KC area&rsquo\;s best known entrepreneurs to tell us the story of how they got their venture off the ground. Join us around the Woodneath fireplace for the real story. As part of Global Entrepreneurship Week\, Mid-Continent Public library will host a special Entrepreneur Storytime featuring a panel of local microbrewers along with celebrity moderator Pete Dulin\, author of KC Ale Trail.&nbsp\;</span></span></span><br />\n<span style="font-size: 10.5pt\;"><span style="font-family: helvetica\,sans-serif\;"><span style="color: rgb(34\, 34\, 34)\;">7 p.m.</span></span></span><br />\n<strong><span style="font-size: 10pt\;"><span style="font-family: helvetica\,sans-serif\;"><span style="color: rgb(34\, 34\, 34)\;">Event&nbsp\;will feature Pete Dulin leading a panel of microbrewers talking about the Business of Microbrews</span></span></span></strong><br />\n&nbsp\;\n<ul>\n	<li style="background: white\; margin: 12pt 0in 0pt\; color: rgb(34\, 34\, 34)\; box-sizing: border-box\;"><span style="font-size: 10.5pt\;"><span style="font-family: helvetica\,sans-serif\;">Steve Holle\, founder of KC Bier Company</span></span></li>\n	<li style="background: white\; margin: 12pt 0in 0pt\; color: rgb(34\, 34\, 34)\; box-sizing: border-box\;"><span style="font-size: 10.5pt\;"><span style="font-family: helvetica\,sans-serif\;">Aaron Ogilvie of Double Shift Brewing</span></span></li>\n	<li style="background: white\; margin: 12pt 0in 0pt\; color: rgb(34\, 34\, 34)\; box-sizing: border-box\;"><span style="font-size: 10.5pt\;"><span style="font-family: helvetica\,sans-serif\;">Matt Moore from Martin City Brewing and</span></span></li>\n	<li style="background: white\; margin: 12pt 0in 0pt\; box-sizing: border-box\;"><span style="font-size: 10.5pt\;"><span style="font-family: helvetica\,sans-serif\;"><span style="color: rgb(34\, 34\, 34)\;">Gene DeClue from Rock &amp\; Run Brewery</span></span></span></li>\n</ul>\n<br />\n<br />\n&nbsp\;
LOCATION:Mid-Continent Public Library Woodneath Library Center 8900 NE Flintlock Road Kansas City\, MO 64157
UID:e.211.4679
SEQUENCE:3
DTSTAMP:20260424T040031Z
URL:https://members.nkcbusinesscouncil.com/events/details/entrepreneur-storytime-the-business-of-microbrews-11-20-2015-4679
END:VEVENT

END:VCALENDAR
