BEGIN:VCALENDAR
VERSION:2.0
PRODID:-//ChamberMaster//Event Calendar 2.0//EN
METHOD:PUBLISH
X-PUBLISHED-TTL:P3D
REFRESH-INTERVAL:P3D
CALSCALE:GREGORIAN
BEGIN:VEVENT
DTSTART:20160421T210000Z
DTEND:20160421T230000Z
X-MICROSOFT-CDO-ALLDAYEVENT:FALSE
SUMMARY:Drink\, Dabble & Plant!
DESCRIPTION:Join us for a fun Drink\, Dabble and Plant - Our new terrarium class. \n\n Create your very own succulent terrarium in a clear rose bowl. We will walk you through the steps of designing your terrarium and share our knowledge of all things terrarium while you play. All supplies and plants are included.\n\n\n\nCreate your very own succulent terrarium in a clear rose bowl. We will walk you through the steps of designing your terrarium and share our knowledge of all things terrarium while you play. All supplies and plants are included.
X-ALT-DESC;FMTTYPE=text/html:<span style="color: black\; font-family: &quot\;Arial&quot\;\,&quot\;sans-serif&quot\;\; font-size: 14pt\; mso-fareast-font-family: &quot\;Times New Roman&quot\;\; mso-ansi-language: EN-US\; mso-fareast-language: EN-US\; mso-bidi-language: AR-SA\;"><strong>&nbsp\;</strong></span><strong><span style="font-size: 14pt\;"><span style="font-family: arial\,sans-serif\;"><span style="color: black\;">Join us for a fun Drink\, Dabble and Plant - Our new terrarium class.&nbsp\;</span></span></span></strong><br />\n<span style="color: black\; font-family: &quot\;Arial&quot\;\,&quot\;sans-serif&quot\;\; font-size: 14pt\; mso-fareast-font-family: &quot\;Times New Roman&quot\;\; mso-ansi-language: EN-US\; mso-fareast-language: EN-US\; mso-bidi-language: AR-SA\;"><strong>&nbsp\;Create your very own succulent terrarium in a clear rose bowl. We will walk you through the steps of designing your terrarium and share our knowledge of all things terrarium while you play. All supplies and plants are included.</strong></span><br />\n<br />\n<span style="color: black\; font-family: &quot\;Arial&quot\;\,&quot\;sans-serif&quot\;\; font-size: 14pt\; mso-fareast-font-family: &quot\;Times New Roman&quot\;\; mso-ansi-language: EN-US\; mso-fareast-language: EN-US\; mso-bidi-language: AR-SA\;"><strong>Create your very own succulent terrarium in a clear rose bowl. We will walk you through the steps of designing your terrarium and share our knowledge of all things terrarium while you play. All supplies and plants are included.</strong></span>
LOCATION:Dare to Dabble 1329 Swift
UID:e.211.4996
SEQUENCE:3
DTSTAMP:20260423T175521Z
URL:https://members.nkcbusinesscouncil.com/events/details/drink-dabble-plant-04-21-2016-4996
END:VEVENT

END:VCALENDAR
