BEGIN:VCALENDAR
VERSION:2.0
PRODID:-//ChamberMaster//Event Calendar 2.0//EN
METHOD:PUBLISH
X-PUBLISHED-TTL:P3D
REFRESH-INTERVAL:P3D
CALSCALE:GREGORIAN
BEGIN:VEVENT
DTSTART:20160114T190000Z
DTEND:20160114T210000Z
X-MICROSOFT-CDO-ALLDAYEVENT:FALSE
SUMMARY:Drink & Dabble - Dare to Dabble
DESCRIPTION:No skill needed\, we guide you through the steps of painting with acrylics. Sessions on \n\nTues\, Thurs. & Sat afternoon for 7yrs\n\nFri & Sat for 18 yrs + \n\nClick on the website link to see more information. Register now to reserve your spot - bring a friend and save $
X-ALT-DESC;FMTTYPE=text/html:<strong><span style="font-size: 9pt\;"><span style="font-family: arial\,sans-serif\;"><span style="color: black\;">No skill needed\, we guide you through the steps of painting with acrylics. Sessions on&nbsp\;</span></span></span></strong><br />\n<em><strong><span style="font-size: 10pt\;"><span style="font-family: arial\,sans-serif\;"><span style="color: black\;">Tues\, Thurs. &amp\; Sat afternoon for 7yrs</span></span></span></strong></em><br />\n<em><strong><span style="font-size: 10pt\;"><span style="font-family: arial\,sans-serif\;"><span style="color: black\;">Fri &amp\; Sat for 18 yrs +&nbsp\;</span></span></span></strong></em><br />\n<strong><span style="font-size: 9pt\;"><span style="font-family: arial\,sans-serif\;"><span style="color: black\;">Click on&nbsp\;the website link&nbsp\;to see more information. Register now to reserve your spot - bring a friend and save $&nbsp\;</span></span></span></strong><br />\n&nbsp\;
LOCATION:1329 Swift North Kansas City\, MO 64116
UID:e.211.4689
SEQUENCE:3
DTSTAMP:20260424T023324Z
URL:https://members.nkcbusinesscouncil.com/events/details/drink-dabble-dare-to-dabble-01-14-2016-4689
END:VEVENT

END:VCALENDAR
