BEGIN:VCALENDAR
VERSION:2.0
PRODID:-//ChamberMaster//Event Calendar 2.0//EN
METHOD:PUBLISH
X-PUBLISHED-TTL:P3D
REFRESH-INTERVAL:P3D
CALSCALE:GREGORIAN
BEGIN:VEVENT
DTSTART;VALUE=DATE:20160319
DTEND;VALUE=DATE:20160320
TRANSP:TRANSPARENT
X-MICROSOFT-CDO-ALLDAYEVENT:TRUE
SUMMARY:Drink Dabble and Plant!
DESCRIPTION:Join us for our first ever Drink\, Dabble and Plant! We are celebrating our first birthday with a new terrarium class. Drink Dabble and Plant will be held once a month in place of our Drink and Dabble Painting class. \n\nCreate your very own Succulent Terrarium in a clear rose bowl. We will walk you through the steps of designing your terrarium and share our knowledge of all things terrarium while you play. All supplies and plants are included.
X-ALT-DESC;FMTTYPE=text/html:<span style="font-size: 14pt\;"><span style="font-family: arial\,sans-serif\;"><span style="color: black\;">Join us for our first ever Drink\, Dabble and Plant! We are celebrating our first birthday with a new terrarium class. Drink Dabble and Plant will be held once a month in place of our Drink and Dabble Painting class.&nbsp\;</span></span></span><br />\n<span style="font-size: 14pt\;"><span style="font-family: arial\,sans-serif\;"><span style="color: black\;">Create your very own Succulent Terrarium in a clear rose bowl. We will walk you through the steps of designing your terrarium and share our knowledge of all things terrarium while you play. All supplies and plants are included.</span></span></span>
LOCATION:Dare to Dabble 1329 Swift
UID:e.211.4937
SEQUENCE:3
DTSTAMP:20260423T235746Z
URL:https://members.nkcbusinesscouncil.com/events/details/drink-dabble-and-plant-03-19-2016-4937
END:VEVENT

END:VCALENDAR
