BEGIN:VCALENDAR
VERSION:2.0
PRODID:-//ChamberMaster//Event Calendar 2.0//EN
METHOD:PUBLISH
X-PUBLISHED-TTL:P3D
REFRESH-INTERVAL:P3D
CALSCALE:GREGORIAN
BEGIN:VEVENT
DTSTART:20160610T230000Z
DTEND:20160611T020000Z
X-MICROSOFT-CDO-ALLDAYEVENT:FALSE
SUMMARY:Drink and Dabble -Adult social painting
DESCRIPTION:Drink and Dabble Join Dare to Dabble at our interactive art space for Drink and Dabble! Learn how to paint with acrylics on a 16? by 20? canvas for $33 per person ? includes all supplies with step by step instruction for that evenings painting. Fun begins at 6 p.m. on Tuesdays and 7 pm on Fridays and Saturdays in our spacious painting studio at 1329 Swift Avenue\, North Kansas City\, Mo. Reserve your spot at www.daretodabble.com - all events can be found on our calendar. Seating is limited.
X-ALT-DESC;FMTTYPE=text/html:Drink and Dabble Join Dare to Dabble at our interactive art space for Drink and Dabble! Learn how to paint with acrylics on a 16? by 20? canvas for $33 per person ? includes all supplies with step by step instruction for that evenings painting. Fun begins at 6 p.m. on Tuesdays and 7 pm on Fridays and Saturdays in our spacious painting studio at 1329 Swift Avenue\, North Kansas City\, Mo. Reserve your spot at www.daretodabble.com - all events can be found on our calendar. Seating is limited.
LOCATION:Dare to Dabble 1329 Swift Avenue\, NKC
UID:e.211.4976
SEQUENCE:3
DTSTAMP:20260423T113030Z
URL:https://members.nkcbusinesscouncil.com/events/details/drink-and-dabble-adult-social-painting-06-10-2016-4976
END:VEVENT

END:VCALENDAR
