BEGIN:VCALENDAR
VERSION:2.0
PRODID:-//ChamberMaster//Event Calendar 2.0//EN
METHOD:PUBLISH
X-PUBLISHED-TTL:P3D
REFRESH-INTERVAL:P3D
CALSCALE:GREGORIAN
BEGIN:VEVENT
DTSTART:20150917T230000Z
DTEND:20150918T010000Z
X-MICROSOFT-CDO-ALLDAYEVENT:FALSE
SUMMARY:Dragon's Egg
DESCRIPTION:Create your own dragon's egg using clay\, jewels\, paint and other adornments. We will provide all the tools and supplies you need to have a great time. Ages 10+
X-ALT-DESC;FMTTYPE=text/html:<span style="font-family: arial\,sans-serif\;"><span style="color: black\;"><span style="font-size: medium\;">Create your own dragon&#39\;s egg using clay\, jewels\, paint and other adornments. We will provide all the tools and supplies you need to have a great time. Ages 10+&nbsp\;</span></span></span><br />\n&nbsp\;
LOCATION:1329 Swift
UID:e.211.4652
SEQUENCE:3
DTSTAMP:20260424T061234Z
URL:https://members.nkcbusinesscouncil.com/events/details/dragon-s-egg-09-17-2015-4652
END:VEVENT

END:VCALENDAR
