BEGIN:VCALENDAR
VERSION:2.0
PRODID:-//ChamberMaster//Event Calendar 2.0//EN
METHOD:PUBLISH
X-PUBLISHED-TTL:P3D
REFRESH-INTERVAL:P3D
CALSCALE:GREGORIAN
BEGIN:VEVENT
DTSTART:20160511T234500Z
DTEND:20160512T020000Z
X-MICROSOFT-CDO-ALLDAYEVENT:FALSE
SUMMARY:Distillation for Homebrewers
DESCRIPTION:Because distillation for personal consumption is legal in Missouri\, there has been lots of interest--and we have a beautiful stainless steel pot/column still for sale\, or to order.  Our new neighbors at Restless Spirits have offered to give another class--Benay Shannon is a great instructor (former science teacher)\, and also makes the gin\, vodka\, and Irish whiskey.  Meet at Grain to Glass by 6:45\; we'll go as a group for the two-hour tour and class.  Participation entitles you to a $20 discount on the purchase of our still.\n\nClass is limited to twelve\; signup:  http://bpt.me/2543056
X-ALT-DESC;FMTTYPE=text/html:<span style="font-family: &quot\;Times New Roman&quot\;\,&quot\;serif&quot\;\; font-size: 10.5pt\; mso-fareast-font-family: &quot\;Times New Roman&quot\;\; mso-ansi-language: EN-US\; mso-fareast-language: EN-US\; mso-bidi-language: AR-SA\;"><font color="#000000">Because distillation for personal consumption is legal in Missouri\, there has been lots of interest--and we have a beautiful stainless steel pot/column still for sale\, or to order. &nbsp\;Our new neighbors at Restless Spirits have offered to give another class--Benay Shannon is a great instructor (former science teacher)\, and also makes the gin\, vodka\, and Irish whiskey. &nbsp\;Meet at Grain to Glass by 6:45\; we&#39\;ll go as a group for the two-hour tour and class. &nbsp\;Participation entitles you to a $20 discount on the purchase of our still.</font><br />\n<font color="#000000">Class is limited to twelve\; signup: &nbsp\;</font><a href="http://graintoglass.us6.list-manage1.com/track/click?u=4962a243373837a1075ac356b&amp\;id=6c949015c2&amp\;e=62864c39e5" target="_blank"><b><span style="color: rgb(51\, 102\, 153)\;">http://bpt.me/2543056</span></b></a></span>
LOCATION:Grain to Glass 1611 Swift
UID:e.211.5076
SEQUENCE:3
DTSTAMP:20260423T175742Z
URL:https://members.nkcbusinesscouncil.com/events/details/distillation-for-homebrewers-05-11-2016-5076
END:VEVENT

END:VCALENDAR
