BEGIN:VCALENDAR
VERSION:2.0
PRODID:-//ChamberMaster//Event Calendar 2.0//EN
METHOD:PUBLISH
X-PUBLISHED-TTL:P3D
REFRESH-INTERVAL:P3D
CALSCALE:GREGORIAN
BEGIN:VEVENT
DTSTART:20151024T160000Z
DTEND:20151024T200000Z
X-MICROSOFT-CDO-ALLDAYEVENT:FALSE
SUMMARY:Despic-O-Ween
DESCRIPTION:Hula Hoopers\, Balloon Artist\, Carnival Games\, Bounce House and Food Truck (to purchase food).
X-ALT-DESC;FMTTYPE=text/html:Hula Hoopers\, Balloon Artist\, Carnival Games\, Bounce House and Food Truck (to purchase food).
LOCATION:Macken Park Festival Shelter
UID:e.211.4667
SEQUENCE:3
DTSTAMP:20260424T055438Z
URL:https://members.nkcbusinesscouncil.com/events/details/despic-o-ween-10-24-2015-4667
END:VEVENT

END:VCALENDAR
