BEGIN:VCALENDAR
VERSION:2.0
PRODID:-//ChamberMaster//Event Calendar 2.0//EN
METHOD:PUBLISH
X-PUBLISHED-TTL:P3D
REFRESH-INTERVAL:P3D
CALSCALE:GREGORIAN
BEGIN:VEVENT
DTSTART:20150826T230000Z
DTEND:20150827T010000Z
X-MICROSOFT-CDO-ALLDAYEVENT:FALSE
SUMMARY:Dare to Dabble - Mosaic Cross Class
DESCRIPTION:Learn the basics of mosaic techniques and design to create your own unique 10x13 cross using a variety of tile\, beads and glass.
X-ALT-DESC;FMTTYPE=text/html:<span style="font-family: arial\,sans-serif\;"><span style="color: black\;"><span style="font-size: medium\;">Learn the basics of mosaic techniques and design to create your own unique 10x13 cross using a variety of tile\, beads and glass.</span></span></span><br />\n&nbsp\;
LOCATION:Dare to Dabble/Luna Coffeehouse 1329 Swift
UID:e.211.4642
SEQUENCE:3
DTSTAMP:20260424T072015Z
URL:https://members.nkcbusinesscouncil.com/events/details/dare-to-dabble-mosaic-cross-class-08-26-2015-4642
END:VEVENT

END:VCALENDAR
