BEGIN:VCALENDAR
VERSION:2.0
PRODID:-//ChamberMaster//Event Calendar 2.0//EN
METHOD:PUBLISH
X-PUBLISHED-TTL:P3D
REFRESH-INTERVAL:P3D
CALSCALE:GREGORIAN
BEGIN:VEVENT
DTSTART:20150814T230000Z
DTEND:20150815T010000Z
X-MICROSOFT-CDO-ALLDAYEVENT:FALSE
SUMMARY:Dare to Dabble - Flower Fairy Class
DESCRIPTION:Join us for Dare to Dabble's first Art Journal Workshop! We will have all the supplies necessary to start your art journal. Art Journals are not created overnight and are meant to be a versatile sketch book for your creative mind. They can include anything from poems to mini paintings. In this class we will be prepping 5x7 1/2 books for our journals. Should you wish to bring your own larger book\, we have created a special price just for you. Starting in September we will hold Art Journal Page Prompts in Open Studio every First Friday. Join us every month to create a unique piece for your journal!
X-ALT-DESC;FMTTYPE=text/html:<span style="color: black\; font-family: &quot\;Arial&quot\;\,&quot\;sans-serif&quot\;\; font-size: 12pt\; mso-fareast-font-family: &quot\;Times New Roman&quot\;\; mso-ansi-language: EN-US\; mso-fareast-language: EN-US\; mso-bidi-language: AR-SA\;">Join us for Dare to Dabble&#39\;s first Art Journal Workshop! We will have all the supplies necessary to start your art journal. Art Journals are not created overnight and are meant to be a versatile sketch book for your creative mind. They can include anything from poems to mini paintings. In this class we will be prepping 5x7 1/2 books for our journals. Should you wish to bring your own larger book\, we have created a special price just for you. Starting in September we will hold Art Journal Page Prompts in Open Studio every First Friday. Join us every month to create a unique piece for your journal!</span>
LOCATION:Dare to Dabble/Luna Coffeehouse 1329 Swift
UID:e.211.4644
SEQUENCE:3
DTSTAMP:20260424T072048Z
URL:https://members.nkcbusinesscouncil.com/events/details/dare-to-dabble-flower-fairy-class-08-14-2015-4644
END:VEVENT

END:VCALENDAR
