BEGIN:VCALENDAR
VERSION:2.0
PRODID:-//ChamberMaster//Event Calendar 2.0//EN
METHOD:PUBLISH
X-PUBLISHED-TTL:P3D
REFRESH-INTERVAL:P3D
CALSCALE:GREGORIAN
BEGIN:VEVENT
DTSTART:20150813T230000Z
DTEND:20150814T010000Z
X-MICROSOFT-CDO-ALLDAYEVENT:FALSE
SUMMARY:Dare to Dabble - Flower Fairy Class
DESCRIPTION:Make an enchanting mini fairy doll using chenille stems\, embroidery floss\, wool and silk flowers. Learn a few embroidery stitches (blanket stitch\, daisy stitch and French knot)to embellish the tunic. Finish with wings and an acorn cap!
X-ALT-DESC;FMTTYPE=text/html:<span style="color: black\; font-family: &quot\;Arial&quot\;\,&quot\;sans-serif&quot\;\; font-size: 12pt\; mso-fareast-font-family: &quot\;Times New Roman&quot\;\; mso-ansi-language: EN-US\; mso-fareast-language: EN-US\; mso-bidi-language: AR-SA\;">Make an enchanting mini fairy doll using chenille stems\, embroidery floss\, wool and silk flowers. Learn a few embroidery stitches (blanket stitch\, daisy stitch and French knot)to embellish the tunic. Finish with wings and an acorn cap!</span><br />\n&nbsp\;
LOCATION:Dare to Dabble/Luna Coffeehouse 1329 Swift
UID:e.211.4643
SEQUENCE:3
DTSTAMP:20260424T072049Z
URL:https://members.nkcbusinesscouncil.com/events/details/dare-to-dabble-flower-fairy-class-08-13-2015-4643
END:VEVENT

END:VCALENDAR
