BEGIN:VCALENDAR
VERSION:2.0
PRODID:-//ChamberMaster//Event Calendar 2.0//EN
METHOD:PUBLISH
X-PUBLISHED-TTL:P3D
REFRESH-INTERVAL:P3D
CALSCALE:GREGORIAN
BEGIN:VEVENT
DTSTART:20150627T200000Z
DTEND:20150627T230000Z
X-MICROSOFT-CDO-ALLDAYEVENT:FALSE
SUMMARY:Dare to Dabble - Beer and Leathercrafts
DESCRIPTION:Make a leather key fob and enjoy a beer flight of 6 hand selected beers by The Beer Tasting KC Crew.
X-ALT-DESC;FMTTYPE=text/html:Make a leather key fob and enjoy a beer flight of 6 hand selected beers by The Beer Tasting KC Crew.
LOCATION:1329 Swift Ave.
UID:e.211.4618
SEQUENCE:3
DTSTAMP:20260424T110955Z
URL:https://members.nkcbusinesscouncil.com/events/details/dare-to-dabble-beer-and-leathercrafts-06-27-2015-4618
END:VEVENT

END:VCALENDAR
