BEGIN:VCALENDAR
VERSION:2.0
PRODID:-//ChamberMaster//Event Calendar 2.0//EN
METHOD:PUBLISH
X-PUBLISHED-TTL:P3D
REFRESH-INTERVAL:P3D
CALSCALE:GREGORIAN
BEGIN:VEVENT
DTSTART:20130817T140000Z
DTEND:20130817T170000Z
X-MICROSOFT-CDO-ALLDAYEVENT:FALSE
SUMMARY:Creating Mosaic Memory Box
DESCRIPTION:Students will create a mosaic memory box incorporating odds & ends\, things that represent good memories\, quotations or phrases that they like. The boxes and all required supplies will be provided\, although students are encouraged to bring small items of meaning to them.\n\n\n\nStudents must be a minimum of 8 years old and all children must be accompanied by an adult taking the class.
X-ALT-DESC;FMTTYPE=text/html:Students will create a mosaic memory box incorporating odds &amp\; ends\, things that represent good memories\, quotations or phrases that they like. The boxes and all required supplies will be provided\, although students are encouraged to bring small items of meaning to them.<br />\n<br />\nStudents must be a minimum of 8 years old and all children must be accompanied by an adult taking the class.<br />\n
LOCATION:First United Methodist Church 2100 Howell NKC\, MO 64116
UID:e.211.3543
SEQUENCE:3
DTSTAMP:20260425T150908Z
URL:https://members.nkcbusinesscouncil.com/events/details/creating-mosaic-memory-box-08-17-2013-3543
END:VEVENT

END:VCALENDAR
