BEGIN:VCALENDAR
VERSION:2.0
PRODID:-//ChamberMaster//Event Calendar 2.0//EN
METHOD:PUBLISH
X-PUBLISHED-TTL:P3D
REFRESH-INTERVAL:P3D
CALSCALE:GREGORIAN
BEGIN:VEVENT
DTSTART:20130820T200000Z
DTEND:20130820T220000Z
X-MICROSOFT-CDO-ALLDAYEVENT:FALSE
SUMMARY:Clay County EDC - The Infrastructure of Business
DESCRIPTION:The fifth in a series of meetings designed to develop a strategic development plan for Clay County is scheduled at the Excelsior Springs High School Performing Arts Theatre. The Infrastructure of business can be a deciding factor for business retention\, existing business expansion and the attraction on new companies to your area. Hear from experts about the economic advantages of having a solid infrastructure and how they all work together to create an environment where people want to live and businesses want to locate\, expand and bring jobs to the community.
X-ALT-DESC;FMTTYPE=text/html:The fifth in a series of meetings designed to develop a strategic development plan for Clay County is scheduled at the Excelsior Springs High School Performing Arts Theatre. The Infrastructure of business can be a deciding factor for business retention\, existing business expansion and the attraction on new companies to your area. Hear from experts about the economic advantages of having a solid infrastructure and how they all work together to create an environment where people want to live and businesses want to locate\, expand and bring jobs to the community.
LOCATION:Excelsior Springs High School Performing Arts Center 612 Tiger Drive Excelsior Springs\, MO 64024
UID:e.211.3544
SEQUENCE:3
DTSTAMP:20260425T151441Z
URL:https://members.nkcbusinesscouncil.com/events/details/clay-county-edc-the-infrastructure-of-business-08-20-2013-3544
END:VEVENT

END:VCALENDAR
