BEGIN:VCALENDAR
VERSION:2.0
PRODID:-//ChamberMaster//Event Calendar 2.0//EN
METHOD:PUBLISH
X-PUBLISHED-TTL:P3D
REFRESH-INTERVAL:P3D
CALSCALE:GREGORIAN
BEGIN:VEVENT
DTSTART:20161015T170000Z
DTEND:20161015T190000Z
X-MICROSOFT-CDO-ALLDAYEVENT:FALSE
SUMMARY:CKC 3rd Annual Anniversary Party & Patient Appreciation Day
DESCRIPTION:YOU'RE INVITED! SAVE THE DATE!\n\nWhat: 3rd Annual Anniversary Party & Patient Appreciation Day\n\nWhen: Saturday\, October 15th 12:00pm-2:00pm\n\nWhere: 420 Armour Rd\, NKC\, MO 64116\n\nJoin us for lunch\, FREE raffle\, & shopping with local vendors!\n\nVendors:\n\nEvolve Paleo Chef (Catering lunch)\n\nGreen Acres Market\n\nRapid Fit KC\n\n9 Round Kick Box\n\nAnna's Tea Shop\n\nNorwex\n\nPampered Chef\n\nStella & Dot\n\nDougherty Holloway\, Attorneys At Law\n\nHeavenly Olive Oils\n\nWe look forward to seeing you there! Please feel free to bring your family!\n\nThank you\,\n\nCKC Doctors & Staff
X-ALT-DESC;FMTTYPE=text/html:<p>YOU&#39\;RE INVITED! SAVE THE DATE!<o:p></o:p></p>\n\n<p>What: 3rd Annual Anniversary Party &amp\; Patient Appreciation Day<o:p></o:p></p>\n\n<p>When: Saturday\, October 15th 12:00pm-2:00pm<o:p></o:p></p>\n\n<p>Where: 420 Armour Rd\, NKC\, MO 64116<o:p></o:p></p>\n\n<p>Join us for lunch\, FREE raffle\, &amp\; shopping with local vendors!<o:p></o:p></p>\n\n<p>Vendors:<o:p></o:p></p>\n\n<p>Evolve Paleo Chef (Catering lunch)<o:p></o:p></p>\n\n<p>Green Acres Market<o:p></o:p></p>\n\n<p>Rapid Fit KC<o:p></o:p></p>\n\n<p>9 Round Kick Box<o:p></o:p></p>\n\n<p>Anna&#39\;s Tea Shop<o:p></o:p></p>\n\n<p>Norwex<o:p></o:p></p>\n\n<p>Pampered Chef<o:p></o:p></p>\n\n<p>Stella &amp\; Dot<o:p></o:p></p>\n\n<p>Dougherty Holloway\, Attorneys At Law<o:p></o:p></p>\n\n<p>Heavenly Olive Oils<o:p></o:p></p>\n\n<p>We look forward to seeing you there! Please feel free to bring your family!<o:p></o:p></p>\n\n<p>Thank you\,<o:p></o:p></p>\n\n<p>CKC Doctors &amp\; Staff<o:p></o:p></p>\n
LOCATION:
UID:e.211.5151
SEQUENCE:3
DTSTAMP:20260423T000006Z
URL:https://members.nkcbusinesscouncil.com/events/details/ckc-3rd-annual-anniversary-party-patient-appreciation-day-5151
END:VEVENT

END:VCALENDAR
