BEGIN:VCALENDAR
VERSION:2.0
PRODID:-//ChamberMaster//Event Calendar 2.0//EN
METHOD:PUBLISH
X-PUBLISHED-TTL:P3D
REFRESH-INTERVAL:P3D
CALSCALE:GREGORIAN
BEGIN:VEVENT
DTSTART:20130924T210000Z
DTEND:20130924T230000Z
X-MICROSOFT-CDO-ALLDAYEVENT:FALSE
SUMMARY:City of North Kansas City Community Development Department Open House
DESCRIPTION:Community Development Department Open House\nThe newest city department invites you to visit and check us out!\n\n \n\nJoin us on Tuesday\, September 24\n\n4:00 to 6:00 pm at  City Hall\, 2010 Howell St.\n\n \n\n*    Meet our staff\n\n*    Hear about upcoming projects\n\n*    Share your thoughts\n\n \n\nWe look forward to seeing you!
X-ALT-DESC;FMTTYPE=text/html:<br />\n<br />\n&nbsp\;<br />\n<h1>\n	<strong><span style="color:#76923c\;"><span style="font-size:16.0pt\;">Community Development Department Open House</span></span></strong></h1>\n<span style="color:black\;"><span style="font-family:garamond\,serif\;"><span style="font-size:12.0pt\;">The newest city department invites you to visit and check us out!</span></span></span><br />\n&nbsp\;<br />\n<span style="font-family:garamond\,serif\;"><span style="font-size:16.0pt\;">Join us on Tuesday\, September 24</span></span><br />\n<span style="font-family:garamond\,serif\;"><span style="font-size:16.0pt\;">4:00 to 6:00 pm a</span></span><span style="font-family:wingdings\;"><span style="font-size:14.0pt\;">t</span></span> &nbsp\;<span style="font-family:garamond\,serif\;"><span style="font-size:16.0pt\;">City Hall\, 2010 Howell St.</span></span><br />\n&nbsp\;<br />\n<strong><span style="font-family:garamond\,serif\;"><span style="font-size:14.0pt\;">*</span></span></strong>&nbsp\;&nbsp\;&nbsp\; <span style="font-family:garamond\,serif\;"><span style="font-size:14.0pt\;">Meet our staff</span></span><br />\n<span style="font-family:wingdings\;"><span style="font-size:14.0pt\;">*</span></span>&nbsp\;&nbsp\;&nbsp\; <span style="font-family:garamond\,serif\;"><span style="font-size:14.0pt\;">Hear about upcoming projects</span></span><br />\n<strong><span style="font-family:garamond\,serif\;"><span style="font-size:14.0pt\;">*</span></span>&nbsp\;&nbsp\;</strong>&nbsp\; <span style="font-family:garamond\,serif\;"><span style="font-size:14.0pt\;">Share your thoughts</span></span><br />\n&nbsp\;<br />\n<strong><span style="font-family:garamond\,serif\;"><span style="font-size:14.0pt\;">We look forward to seeing you!</span></span></strong>
LOCATION:
UID:e.211.3549
SEQUENCE:3
DTSTAMP:20260425T140720Z
URL:https://members.nkcbusinesscouncil.com/events/details/city-of-north-kansas-city-community-development-department-open-house-09-24-2013-3549
END:VEVENT

END:VCALENDAR
