BEGIN:VCALENDAR
VERSION:2.0
PRODID:-//ChamberMaster//Event Calendar 2.0//EN
METHOD:PUBLISH
X-PUBLISHED-TTL:P3D
REFRESH-INTERVAL:P3D
CALSCALE:GREGORIAN
BEGIN:VEVENT
DTSTART:20160214T180000Z
DTEND:20160214T200000Z
X-MICROSOFT-CDO-ALLDAYEVENT:FALSE
SUMMARY:Chocolate Beer tasting - Grain to Glass
DESCRIPTION:We continue our Sunday series\,"Beer Styles with Haley". Haley has an amazing wealth of beer knowledge to share with you! Others tastings that follow in February are Coffee Beers (Feb. 7th) and Chocolate Beers (Feb. 14th). Our Sunday Tastings are $15\, from Noon-2 PM. \n\nFollowing Haley's presentation at 2 PM on Sunday\, we welcome Jim Pierce\, farmer extraordinare from "Of the Earth Farms Distillery".  We will offer some samples of his excellent spirits\, and he will talk about distillation--especially about our new stainless steel kettle still (like one that he started with).  Cost is $10\; limited to the first twelve.
X-ALT-DESC;FMTTYPE=text/html:<span style="color: rgb(80\, 80\, 80)\; font-family: &quot\;Arial&quot\;\,&quot\;sans-serif&quot\;\; font-size: 10.5pt\; mso-fareast-font-family: &quot\;Times New Roman&quot\;\; mso-ansi-language: EN-US\; mso-fareast-language: EN-US\; mso-bidi-language: AR-SA\;">We continue our Sunday series\,&quot\;Beer Styles with Haley&quot\;. Haley has an amazing wealth of beer knowledge to share with you! Others tastings that follow in February are Coffee Beers (Feb. 7th) and Chocolate Beers (Feb. 14th). Our Sunday Tastings are $15\, from Noon-2 PM.&nbsp\;<br />\nFollowing Haley&#39\;s presentation at 2 PM on Sunday\, we welcome Jim Pierce\, farmer extraordinare from &quot\;Of the Earth Farms Distillery&quot\;. &nbsp\;We will offer some samples of his excellent spirits\, and he will talk about distillation--especially about our new stainless steel kettle still (like one that he started with). &nbsp\;Cost is $10\; limited to the first twelve.&nbsp\;&nbsp\;</span>
LOCATION:Grain to Glass 1611 Swift
UID:e.211.4830
SEQUENCE:3
DTSTAMP:20260424T001209Z
URL:https://members.nkcbusinesscouncil.com/events/details/chocolate-beer-tasting-grain-to-glass-02-14-2016-4830
END:VEVENT

END:VCALENDAR
