BEGIN:VCALENDAR
VERSION:2.0
PRODID:-//ChamberMaster//Event Calendar 2.0//EN
METHOD:PUBLISH
X-PUBLISHED-TTL:P3D
REFRESH-INTERVAL:P3D
CALSCALE:GREGORIAN
BEGIN:VEVENT
DTSTART:20150625T234500Z
DTEND:20150626T010000Z
X-MICROSOFT-CDO-ALLDAYEVENT:FALSE
SUMMARY:Chiropractic Kinesiology Clinic Summer Health Club
DESCRIPTION:Schedule: Introduction w/ prize drawings\, Heavenly Olive Oils with Steve Anderson\, All you need to know about SPF\, sunblock\, Vitamin D3 and how to stay safe in the sun with Dr. Katrina Waynar\, Summer Health Tips and Essential Oils with Lisa Serrone.\n\nSponsors: CKC\, Heavenly Olive Oils\, The Bodywork Practitioner\n\n(FREE CHAIR MASSAGE)
X-ALT-DESC;FMTTYPE=text/html:Schedule: Introduction w/ prize drawings\, Heavenly Olive Oils with Steve Anderson\, All you need to know about SPF\, sunblock\, Vitamin D3 and how to stay safe in the sun with Dr. Katrina Waynar\, Summer Health Tips and Essential Oils with Lisa Serrone.<br />\nSponsors: CKC\, Heavenly Olive Oils\, The Bodywork Practitioner<br />\n<strong>(FREE CHAIR MASSAGE)</strong>
LOCATION:Heavenly Olive Oils 8603 N. Winter Ave. Kansas City\, MO 64153 (Zona Rosa)
UID:e.211.4619
SEQUENCE:3
DTSTAMP:20260424T111303Z
URL:https://members.nkcbusinesscouncil.com/events/details/chiropractic-kinesiology-clinic-summer-health-club-06-25-2015-4619
END:VEVENT

END:VCALENDAR
