BEGIN:VCALENDAR
VERSION:2.0
PRODID:-//ChamberMaster//Event Calendar 2.0//EN
METHOD:PUBLISH
X-PUBLISHED-TTL:P3D
REFRESH-INTERVAL:P3D
CALSCALE:GREGORIAN
BEGIN:VEVENT
DTSTART:20160611T140000Z
DTEND:20160612T040000Z
X-MICROSOFT-CDO-ALLDAYEVENT:FALSE
SUMMARY:Chicken N' Pickle Play with the Pro
DESCRIPTION:Sign up today to play with Enrique Ruiz \n\n			Enrique Ruiz is an Oregon native who has played with and against the best pickleball players in the country and made his way to the winner's podium at all major competitions. His many accomplishments and good sportsmanship have earned him a sterling reputation among his fellow players as well as a sponsorship by Selkirk Sport. \n\n			- Participants will have a unique opportunity to learn & to practice : "many of the same drills that have helped me to be the player that I am" \n\n			- Drills on how to become a better overall player on both the offensive & defensive side of the game. \n\n			- Key Strategies to help to play smarter & not harder - individually & especially in doubles & in mixed doubles.
X-ALT-DESC;FMTTYPE=text/html:<p align="LEFT">&nbsp\;</p>\n\n<table border="1" cellpadding="9" cellspacing="0" dir="LTR">\n	<tbody>\n		<tr>\n			<td height="154" valign="TOP" width="958">\n			<p><b><font size="3">Sign up today to play with Enrique Ruiz </font></b></p>\n\n			<p><font face="Corbel\,Corbel" size="3"><font face="Corbel\,Corbel" size="3">Enrique Ruiz is an Oregon native who has played with and against the best pickleball players in the country and made his way to the winner&#39\;s podium at all major competitions. His many accomplishments and good sportsmanship have earned him a sterling reputation among his fellow players as well as a sponsorship by Selkirk Sport. </font></font></p>\n\n			<p><font face="Corbel\,Corbel" size="1"><font face="Corbel\,Corbel" size="1">- Participants will have a unique opportunity to learn &amp\; to practice : &quot\;many of the same drills that have helped me to be the player that I am&quot\; </font></font></p>\n\n			<p><font face="Corbel\,Corbel" size="1"><font face="Corbel\,Corbel" size="1">- Drills on how to become a better overall player on both the offensive &amp\; defensive side of the game. </font></font></p>\n\n			<p><font face="Corbel\,Corbel" size="1"><font face="Corbel\,Corbel" size="1">- Key Strategies to help to play smarter &amp\; not harder - individually &amp\; especially in doubles &amp\; in mixed doubles. </font></font></p>\n\n			<p>&nbsp\;</p>\n\n			<p>&nbsp\;</p>\n\n			<p>&nbsp\;</p>\n			</td>\n			<td height="154">&nbsp\;</td>\n		</tr>\n	</tbody>\n</table>\n
LOCATION:Chicken N' Pickle 1761 Burlington
UID:e.211.5122
SEQUENCE:3
DTSTAMP:20260423T111933Z
URL:https://members.nkcbusinesscouncil.com/events/details/chicken-n-pickle-play-with-the-pro-06-11-2016-5122
END:VEVENT

END:VCALENDAR
