BEGIN:VCALENDAR
VERSION:2.0
PRODID:-//ChamberMaster//Event Calendar 2.0//EN
METHOD:PUBLISH
X-PUBLISHED-TTL:P3D
REFRESH-INTERVAL:P3D
CALSCALE:GREGORIAN
BEGIN:VEVENT
DTSTART:20160220T170000Z
DTEND:20160220T183000Z
X-MICROSOFT-CDO-ALLDAYEVENT:FALSE
SUMMARY:Cherry Blossoms family paint - Dare to Dabble
DESCRIPTION:Come and Dabble in the arts! We will guide you through the steps of creating a 16"x20" piece of artwork while enjoying breaks along the way filled with laughter\, and music to make you dance. At the end of the night you will leave with your own masterpiece. Painting begins promptly at 1 pm.\n\nArrive after 1:05 we will issue you a credit to come back another time.\n\nClick on the website link to see more information. Register now to reserve your spot - bring a friend and save $
X-ALT-DESC;FMTTYPE=text/html:<span style="font: 14px/22px SQMarket-regular\, &quot\;Helvetica Neue&quot\;\, sans-serif\; text-transform: none\; text-indent: 0px\; letter-spacing: normal\; word-spacing: 0px\; float: none\; display: inline !important\; white-space: normal\; widows: 1\; font-size-adjust: none\; font-stretch: normal\; background-color: rgb(255\, 255\, 255)\; -webkit-text-stroke-color: rgba(0\, 0\, 0\, 0)\; -webkit-text-stroke-width: 1px\;">Come and Dabble in the arts! We will guide you through the steps of creating a 16&quot\;x20&quot\; piece of artwork while enjoying breaks along the way filled with laughter\, and music to make you dance. At the end of the night you will leave with your own masterpiece. Painting begins promptly at 1 pm.</span><br style="font: 14px/22px SQMarket-regular\, &quot\;Helvetica Neue&quot\;\, sans-serif\; color: rgb(149\, 155\, 162)\; text-transform: none\; text-indent: 0px\; letter-spacing: normal\; word-spacing: 0px\; white-space: normal\; box-sizing: border-box\; widows: 1\; font-size-adjust: none\; font-stretch: normal\; background-color: rgb(255\, 255\, 255)\; -webkit-text-stroke-color: rgba(0\, 0\, 0\, 0)\; -webkit-text-stroke-width: 1px\;" />\n<span style="font: 14px/22px SQMarket-regular\, &quot\;Helvetica Neue&quot\;\, sans-serif\; text-transform: none\; text-indent: 0px\; letter-spacing: normal\; word-spacing: 0px\; float: none\; display: inline !important\; white-space: normal\; widows: 1\; font-size-adjust: none\; font-stretch: normal\; background-color: rgb(255\, 255\, 255)\; -webkit-text-stroke-color: rgba(0\, 0\, 0\, 0)\; -webkit-text-stroke-width: 1px\;">Arrive after 1:05 we will issue you a credit to come back another time.</span><br />\n<strong><span style="font-size: 9pt\;"><span style="font-family: arial\,sans-serif\;"><span style="color: black\;">Click on&nbsp\;the website link&nbsp\;to see more information. Register now to reserve your spot - bring a friend and save $&nbsp\;</span></span></span></strong><br />\n&nbsp\;
LOCATION:1329 Swift North Kansas City\, MO 64116
UID:e.211.4851
SEQUENCE:3
DTSTAMP:20260424T002220Z
URL:https://members.nkcbusinesscouncil.com/events/details/cherry-blossoms-family-paint-dare-to-dabble-02-20-2016-4851
END:VEVENT

END:VCALENDAR
