BEGIN:VCALENDAR
VERSION:2.0
PRODID:-//ChamberMaster//Event Calendar 2.0//EN
METHOD:PUBLISH
X-PUBLISHED-TTL:P3D
REFRESH-INTERVAL:P3D
CALSCALE:GREGORIAN
BEGIN:VEVENT
DTSTART:20160328T223000Z
DTEND:20160329T000000Z
X-MICROSOFT-CDO-ALLDAYEVENT:FALSE
SUMMARY:CHEMO BRAIN AND WHAT YOU CAN DO ABOUT IT
DESCRIPTION:Chemo brain describes the thought and memory problems that sometimes occur with cancer treatment. Learn how memory works and get strategies to help you cope.
X-ALT-DESC;FMTTYPE=text/html:<span style="font-size: 11pt\;"><span style="font-family: calibri\,sans-serif\;"><span style="color: rgb(34\, 30\, 31)\;">Chemo brain describes the thought and memory problems that sometimes occur with cancer treatment. Learn how memory works and get strategies to help you cope.&nbsp\;&nbsp\;</span></span></span>
LOCATION:North Kansas City Hospital\, Medical Plaza North\, 2750 Clay Edwards Drive\, Suite 210
UID:e.211.4929
SEQUENCE:3
DTSTAMP:20260423T212142Z
URL:https://members.nkcbusinesscouncil.com/events/details/chemo-brain-and-what-you-can-do-about-it-03-28-2016-4929
END:VEVENT

END:VCALENDAR
