BEGIN:VCALENDAR
VERSION:2.0
PRODID:-//ChamberMaster//Event Calendar 2.0//EN
METHOD:PUBLISH
X-PUBLISHED-TTL:P3D
REFRESH-INTERVAL:P3D
CALSCALE:GREGORIAN
BEGIN:VEVENT
DTSTART:20151025T170000Z
DTEND:20151025T200000Z
X-MICROSOFT-CDO-ALLDAYEVENT:FALSE
SUMMARY:Cheese & Beers at Grain to Glass
DESCRIPTION:We're making our annual batch of sauerkraut a little later than usual\, and it will be finished fermenting about the same time as our cider--so\, join us on Sunday\,  October 25th (Noon-3 PM) for a belated October-fest celebration\, with some brats and Chiefs vs. Steelers (and maybe Royals)\, too! We might tailgate in our parking lot!
X-ALT-DESC;FMTTYPE=text/html:<span style="font-family: &quot\;Times New Roman&quot\;\,&quot\;serif&quot\;\; font-size: 10.5pt\; mso-fareast-font-family: &quot\;Times New Roman&quot\;\; mso-ansi-language: EN-US\; mso-fareast-language: EN-US\; mso-bidi-language: AR-SA\;"><font color="#000000">We&#39\;re making our annual batch of <em>sauerkraut</em> a little later than usual\, and it will be finished fermenting about the same time as our cider--so\, join us on <u>Sunday\,&nbsp\;&nbsp\;October 25th</u>&nbsp\;(Noon-3 PM) for a belated </font><em><span style="color: brown\;">October-fest</span></em><font color="#000000"> celebration\, with some brats and Chiefs vs. Steelers (and maybe Royals)\, too! We might tailgate in our parking lot!</font></span>
LOCATION:Grain to Glass 1611 Swift
UID:e.211.4669
SEQUENCE:3
DTSTAMP:20260424T062021Z
URL:https://members.nkcbusinesscouncil.com/events/details/cheese-beers-at-grain-to-glass-10-25-2015-4669
END:VEVENT

END:VCALENDAR
