BEGIN:VCALENDAR
VERSION:2.0
PRODID:-//ChamberMaster//Event Calendar 2.0//EN
METHOD:PUBLISH
X-PUBLISHED-TTL:P3D
REFRESH-INTERVAL:P3D
CALSCALE:GREGORIAN
BEGIN:VEVENT
DTSTART:20151021T220000Z
DTEND:20151022T000000Z
X-MICROSOFT-CDO-ALLDAYEVENT:FALSE
SUMMARY:Cheese & Beers at Grain to Glass
DESCRIPTION:We'll do a special serving of our Green Dirt Farms cheeses (Woolly Rind and Dirt Lover) and beers from 5-7 PM on Wednesday\, October 21st.  We'll serve either Crooked Stave or Prairie Ales--in their respective glasses.  Celebrate mid-week!
X-ALT-DESC;FMTTYPE=text/html:<span style="font-family: &quot\;Times New Roman&quot\;\,&quot\;serif&quot\;\; font-size: 10.5pt\; mso-fareast-font-family: &quot\;Times New Roman&quot\;\; mso-ansi-language: EN-US\; mso-fareast-language: EN-US\; mso-bidi-language: AR-SA\;"><font color="#000000">We&#39\;ll do a special serving of our Green Dirt Farms cheeses (Woolly Rind and Dirt Lover)&nbsp\;and beers from 5-7 PM on Wednesday\, October 21st. &nbsp\;We&#39\;ll serve either Crooked Stave or Prairie Ales--in their respective glasses. &nbsp\;Celebrate mid-week!</font></span>
LOCATION:Grain to Glass 1611 Swift
UID:e.211.4668
SEQUENCE:3
DTSTAMP:20260424T051218Z
URL:https://members.nkcbusinesscouncil.com/events/details/cheese-beers-at-grain-to-glass-10-21-2015-4668
END:VEVENT

END:VCALENDAR
