BEGIN:VCALENDAR
VERSION:2.0
PRODID:-//ChamberMaster//Event Calendar 2.0//EN
METHOD:PUBLISH
X-PUBLISHED-TTL:P3D
REFRESH-INTERVAL:P3D
CALSCALE:GREGORIAN
BEGIN:VEVENT
DTSTART:20131017T210000Z
DTEND:20131018T010000Z
X-MICROSOFT-CDO-ALLDAYEVENT:FALSE
SUMMARY:Centrix Innovation Open House
DESCRIPTION:Before you know it\, a whole year has passed come and gone...\n\n	Centrix would like to invite you and guests to join us as we officially cut-the-ribbon and open our doors to introduce ourselves to the Kansas City business community. \n\n	We will also like to take time to acknowledge our backers\, bankers\, supporters\, vendors\, and especially those clients who have been instrumental in helping us grow daily as we continue #sparkinginnovation. \n\n	Won't you please join us for a tour\, some tunes\, great grub\, and to see if Marc can use those giant scissors too! \n\n	We'd love to have you.
X-ALT-DESC;FMTTYPE=text/html:<p>\n	<span style="font-family: &quot\;book antiqua&quot\;\, palatino\; font-size: medium\;">Before you know it\, a whole year has passed come and gone...</span></p>\n<p>\n	<span style="font-family: &quot\;book antiqua&quot\;\, palatino\; font-size: medium\;">Centrix would like to invite you and guests to join us as we officially cut-the-ribbon and open our doors to introduce ourselves to the Kansas City business community. </span></p>\n<p>\n	<span style="font-family: &quot\;book antiqua&quot\;\, palatino\; font-size: medium\;">We will also like to take time to acknowledge our backers\, bankers\, supporters\, vendors\, and especially those clients who have been instrumental in helping us grow daily as we continue #sparkinginnovation. </span></p>\n<p>\n	<span style="font-family: &quot\;book antiqua&quot\;\, palatino\; font-size: medium\;">Won&rsquo\;t you please join us for a tour\, some tunes\, great grub\, and to see if Marc can use those giant scissors too! </span></p>\n<p>\n	<span style="font-family: &quot\;book antiqua&quot\;\, palatino\; font-size: medium\;">We&rsquo\;d love to have you. </span></p>\n
LOCATION:999 Bedford
UID:e.211.3550
SEQUENCE:3
DTSTAMP:20260425T122557Z
URL:https://members.nkcbusinesscouncil.com/events/details/centrix-innovation-open-house-10-17-2013-3550
END:VEVENT

END:VCALENDAR
