BEGIN:VCALENDAR
VERSION:2.0
PRODID:-//ChamberMaster//Event Calendar 2.0//EN
METHOD:PUBLISH
X-PUBLISHED-TTL:P3D
REFRESH-INTERVAL:P3D
CALSCALE:GREGORIAN
BEGIN:VEVENT
DTSTART:20130108T133000Z
DTEND:20130108T150000Z
X-MICROSOFT-CDO-ALLDAYEVENT:FALSE
SUMMARY:Business Focus Forum
DESCRIPTION:Jeff Lanza will be discussing Identity Theft and how to protect yourself.
X-ALT-DESC;FMTTYPE=text/html:Jeff Lanza will be discussing Identity Theft and how to protect yourself.
LOCATION:First Watch 409 Armour Road
UID:e.211.3095
SEQUENCE:3
DTSTAMP:20260426T013028Z
URL:https://members.nkcbusinesscouncil.com/events/details/business-focus-forum-01-08-2013-3095
END:VEVENT

END:VCALENDAR
