BEGIN:VCALENDAR
VERSION:2.0
PRODID:-//ChamberMaster//Event Calendar 2.0//EN
METHOD:PUBLISH
X-PUBLISHED-TTL:P3D
REFRESH-INTERVAL:P3D
CALSCALE:GREGORIAN
BEGIN:VEVENT
DTSTART:20121115T173000Z
DTEND:20121115T190000Z
X-MICROSOFT-CDO-ALLDAYEVENT:FALSE
SUMMARY:Business Council Monthly Luncheon
DESCRIPTION:Author Matt Faulks and Jim Chappell will be discussing the new book\, Conversations at Chappell's.
X-ALT-DESC;FMTTYPE=text/html:<p>\n	<font size="2">Author Matt Faulks&nbsp\;and Jim Chappell&nbsp\;will be discussing&nbsp\;the new book\, <u>Conversations at Chappell&#39\;s</u>.</font></p>\n
LOCATION:Finnigan's Banquet Venue 503 E. 18th Avenue NKC\, MO 64116
UID:e.211.700
SEQUENCE:3
DTSTAMP:20260426T035752Z
URL:https://members.nkcbusinesscouncil.com/events/details/business-council-monthly-luncheon-11-15-2012-700
END:VEVENT

END:VCALENDAR
