BEGIN:VCALENDAR
VERSION:2.0
PRODID:-//ChamberMaster//Event Calendar 2.0//EN
METHOD:PUBLISH
X-PUBLISHED-TTL:P3D
REFRESH-INTERVAL:P3D
CALSCALE:GREGORIAN
BEGIN:VEVENT
DTSTART:20141119T223000Z
DTEND:20141120T000000Z
X-MICROSOFT-CDO-ALLDAYEVENT:FALSE
SUMMARY:Business After Hours
DESCRIPTION:Please join us for November's After Hours at First Missouri Bank  \n\n                     1925 Burlington Street\n\n                 Wednesday\, November 19th\,  \n\n                        4:30 pm to 6:30 pm.   \n\n \n\nFirst Missouri Bank is a drop-off location for Harvesters Community Food Network. This event is an excellent opportunity for you to bring a non-perishable food or household item for Harvesters.  Your contribution will play an essential role in the fight against hunger this holiday season.
X-ALT-DESC;FMTTYPE=text/html:<strong><span style="font-weight:normal\;"><span style="color:#45322B\;"><span style="font-family:calibri\,sans-serif\;"><span style="font-size:11.0pt\;">Please join us for </span></span></span></span></strong><strong><span style="font-weight:normal\;"><span style="color:#45322B\;"><span style="font-family:calibri\,sans-serif\;"><span style="font-size:11.0pt\;">November&#39\;s After Hours&nbsp\;</span></span></span></span></strong><strong><span style="font-weight:normal\;"><span style="color:#45322B\;"><span style="font-family:calibri\,sans-serif\;"><span style="font-size:11.0pt\;">at First Missouri Bank &nbsp\;</span></span></span></span></strong><br />\n&nbsp\;&nbsp\;&nbsp\;&nbsp\;&nbsp\;&nbsp\;&nbsp\;&nbsp\;&nbsp\;&nbsp\;&nbsp\;&nbsp\;&nbsp\;&nbsp\;&nbsp\;&nbsp\;&nbsp\;&nbsp\;&nbsp\;&nbsp\;<strong><span style="font-weight:normal\;"><span style="color:#45322B\;"><span style="font-family:calibri\,sans-serif\;"><span style="font-size:11.0pt\;">&nbsp\;1925 Burlington Street</span></span></span></span></strong><br />\n<strong><span style="font-weight:normal\;"><span style="color:#45322B\;"><span style="font-family:calibri\,sans-serif\;"><span style="font-size:11.0pt\;">&nbsp\; </span></span></span></span></strong>&nbsp\;&nbsp\;&nbsp\;&nbsp\;&nbsp\;&nbsp\;&nbsp\;&nbsp\;&nbsp\;&nbsp\;&nbsp\;&nbsp\;&nbsp\;&nbsp\; <strong><span style="font-weight:normal\;"><span style="color:#45322B\;"><span style="font-family:calibri\,sans-serif\;"><span style="font-size:11.0pt\;">Wednesday\, November 19th\, &nbsp\;</span></span></span></span></strong><br />\n&nbsp\;&nbsp\;&nbsp\;&nbsp\;&nbsp\;&nbsp\;&nbsp\;&nbsp\;&nbsp\;&nbsp\;&nbsp\;&nbsp\;&nbsp\;&nbsp\;&nbsp\;&nbsp\;&nbsp\;&nbsp\;&nbsp\;&nbsp\;&nbsp\;&nbsp\;&nbsp\;&nbsp\;<strong><span style="font-weight:normal\;"><span style="color:#45322B\;"><span style="font-family:calibri\,sans-serif\;"><span style="font-size:11.0pt\;">4:30 pm to 6:30 pm.&nbsp\; &nbsp\;</span></span></span></span></strong><br />\n&nbsp\;<br />\n<strong><span style="font-weight:normal\;"><span style="color:#45322B\;"><span style="font-family:calibri\,sans-serif\;"><span style="font-size:11.0pt\;">First Missouri Bank is a drop-off location for Harvesters Community Food Network.&nbsp\;This event is an excellent opportunity for you to bring a non-perishable food or household item for Harvesters. &nbsp\;Your contribution will play an essential role in the fight against hunger this holiday season.</span></span></span></span></strong><br />\n&nbsp\;
LOCATION:First Missouri Bank 1925 Burlington
UID:e.211.4122
SEQUENCE:3
DTSTAMP:20260424T191855Z
URL:https://members.nkcbusinesscouncil.com/events/details/business-after-hours-11-19-2014-4122
END:VEVENT

END:VCALENDAR
