BEGIN:VCALENDAR
VERSION:2.0
PRODID:-//ChamberMaster//Event Calendar 2.0//EN
METHOD:PUBLISH
X-PUBLISHED-TTL:P3D
REFRESH-INTERVAL:P3D
CALSCALE:GREGORIAN
BEGIN:VEVENT
DTSTART:20121114T223000Z
DTEND:20121115T000000Z
X-MICROSOFT-CDO-ALLDAYEVENT:FALSE
SUMMARY:Business After Hours
DESCRIPTION:First Federal Bank will be hosting this month's After Hours. Come by and visit with us after work for a few minutes.
X-ALT-DESC;FMTTYPE=text/html:<p>\n	<span style="font-size: 10pt"><span style="font-size: 16px"><span style="font-family: arial\, sans-serif"><span face="">First Federal Bank will be hosting this month&#39\;s After Hours. Come by and visit with us after work for a few minutes.</span></span></span></span></p>\n
LOCATION:1200 Armour Road
UID:e.211.2302
SEQUENCE:3
DTSTAMP:20260426T035549Z
URL:https://members.nkcbusinesscouncil.com/events/details/business-after-hours-11-14-2012-2302
END:VEVENT

END:VCALENDAR
