BEGIN:VCALENDAR
VERSION:2.0
PRODID:-//ChamberMaster//Event Calendar 2.0//EN
METHOD:PUBLISH
X-PUBLISHED-TTL:P3D
REFRESH-INTERVAL:P3D
CALSCALE:GREGORIAN
BEGIN:VEVENT
DTSTART:20131113T223000Z
DTEND:20131114T000000Z
X-MICROSOFT-CDO-ALLDAYEVENT:FALSE
SUMMARY:Business After Hours
DESCRIPTION:Please join us for November's After Hours\n\nat First Missouri Bank\n\nat 1925 Burlington Street\n\non Wednesday\, November 13th\, 4:30 pm to 6:30 pm .\n\n\n\nFirst Missouri Bank is a drop-off location for Harvesters Community Food Network. \n\nThis event is an excellent opportunity for you to bring a non-perishable food or household item for Harvesters. \n\nYour contribution will play an essential role in the fight against hunger this holiday season.
X-ALT-DESC;FMTTYPE=text/html:<span style="color:black\;"><span style="font-size:11.5pt\;">Please join us for November&rsquo\;s After Hours<br />\nat First Missouri Bank<br />\nat 1925 Burlington Street<br />\non Wednesday\, November 13<sup>th</sup>\, 4:30 pm to 6:30 pm .<br />\n<br />\nFirst Missouri Bank is a drop-off location for Harvesters Community Food Network.&nbsp\;<br />\nThis event is an excellent opportunity for you to bring a non-perishable food or household item for Harvesters.&nbsp\;<br />\nYour contribution will play an essential role in the fight against hunger this holiday season.</span></span>
LOCATION:1925 Burlington Street
UID:e.211.2643
SEQUENCE:3
DTSTAMP:20260425T110324Z
URL:https://members.nkcbusinesscouncil.com/events/details/business-after-hours-11-13-2013-2643
END:VEVENT

END:VCALENDAR
