BEGIN:VCALENDAR
VERSION:2.0
PRODID:-//ChamberMaster//Event Calendar 2.0//EN
METHOD:PUBLISH
X-PUBLISHED-TTL:P3D
REFRESH-INTERVAL:P3D
CALSCALE:GREGORIAN
BEGIN:VEVENT
DTSTART:20130918T213000Z
DTEND:20130918T230000Z
X-MICROSOFT-CDO-ALLDAYEVENT:FALSE
SUMMARY:Business After Hours
DESCRIPTION:Join us at our new location to take a tour and see all the changes we have made.
X-ALT-DESC;FMTTYPE=text/html:Join us at our new location to take a tour and see all the changes we have made.
LOCATION:320 Armour Road\, Suite 220
UID:e.211.2641
SEQUENCE:3
DTSTAMP:20260425T140210Z
URL:https://members.nkcbusinesscouncil.com/events/details/business-after-hours-09-18-2013-2641
END:VEVENT

END:VCALENDAR
