BEGIN:VCALENDAR
VERSION:2.0
PRODID:-//ChamberMaster//Event Calendar 2.0//EN
METHOD:PUBLISH
X-PUBLISHED-TTL:P3D
REFRESH-INTERVAL:P3D
CALSCALE:GREGORIAN
BEGIN:VEVENT
DTSTART:20130814T213000Z
DTEND:20130814T230000Z
X-MICROSOFT-CDO-ALLDAYEVENT:FALSE
SUMMARY:Business After Hours
DESCRIPTION:Join us for a ribbon cutting and to learn more about Computer Recycle USA.org and how they can help your business clean out all your old technology hardware in a way that's good for you and the environment.
X-ALT-DESC;FMTTYPE=text/html:<div style="color: gray\;">\n	<span style="color: rgb(0\, 0\, 0)\;">Join us for a ribbon cutting and to learn more about Computer Recycle USA.org and how they can help your business clean out all your old technology hardware in a way that&#39\;s good for you and the environment.</span></div>\n
LOCATION:1534 Burlington St.
UID:e.211.2640
SEQUENCE:3
DTSTAMP:20260425T151054Z
URL:https://members.nkcbusinesscouncil.com/events/details/business-after-hours-08-14-2013-2640
END:VEVENT

END:VCALENDAR
