BEGIN:VCALENDAR
VERSION:2.0
PRODID:-//ChamberMaster//Event Calendar 2.0//EN
METHOD:PUBLISH
X-PUBLISHED-TTL:P3D
REFRESH-INTERVAL:P3D
CALSCALE:GREGORIAN
BEGIN:VEVENT
DTSTART:20140521T213000Z
DTEND:20140521T230000Z
X-MICROSOFT-CDO-ALLDAYEVENT:FALSE
SUMMARY:Business After Hours
DESCRIPTION:Stop by our host business for networking\, refreshments\, and a few laughs before heading home.
X-ALT-DESC;FMTTYPE=text/html:Stop by our host business for networking\, refreshments\, and a few laughs before heading home.
LOCATION:Hunt Midwest/ Northgate Village 406 E. 31st Ave
UID:e.211.4116
SEQUENCE:3
DTSTAMP:20260425T041609Z
URL:https://members.nkcbusinesscouncil.com/events/details/business-after-hours-05-21-2014-4116
END:VEVENT

END:VCALENDAR
